BEGIN:VCALENDAR
PRODID:-//eluceo/ical//2.0/EN
VERSION:2.0
CALSCALE:GREGORIAN
BEGIN:VEVENT
UID:9cb99884b37eaf59945e9b19406bf89a
DTSTAMP:20260425T001031Z
SUMMARY:8 Gays of Channukah - The Musical
DESCRIPTION:UJA Federation of Greater Toronto\nJewish Toronto Calendar\nhtt
 ps://jewishtoronto.com/calendar/8-gays-of-channukah---the-musical-17284740
 51\n\nGila Münster\, Toronto’s premiere Jewish drag queen entertainer\,
  has teamed up with singer-songwriter Yan Simon and professional actress S
 arah Freia on the 6th annual “8 Gays of Channukah” queer Jewish event.
  Between them\, they represent Canadian and Israeli Sephardi\, Ashkenazi\,
  and Mizrahi Jewish identities across the 2SLGBTQIA+ spectrum.
DTSTART;TZID=America/Toronto:20241215T180000
DTEND;TZID=America/Toronto:20241215T210000
END:VEVENT
END:VCALENDAR
