BEGIN:VCALENDAR
PRODID:-//eluceo/ical//2.0/EN
VERSION:2.0
CALSCALE:GREGORIAN
BEGIN:VEVENT
UID:02fa74b333459ee83db99930f71c4ac1
DTSTAMP:20260421T191003Z
SUMMARY:7th Day Pesach & Yizkor Service Livestream
DESCRIPTION:UJA Federation of Greater Toronto\nJewish Toronto Calendar\nhtt
 ps://jewishtoronto.com/calendar/7th-day-pesach--yizkor-service-livestream-
 1585588033\n\n7th Day Pesach & Yizkor Service Livestream\nWednesday\, Apri
 l 15\, 10:00 am\n\nhttps://holyblossom.org/event/7th-day-pesach-yizkor-ser
 vice/
DTSTART;TZID=America/Toronto:20200415T100000
DTEND;TZID=America/Toronto:20200415T110000
END:VEVENT
END:VCALENDAR
