BEGIN:VCALENDAR
PRODID:-//eluceo/ical//2.0/EN
VERSION:2.0
CALSCALE:GREGORIAN
BEGIN:VEVENT
UID:a1202346c31284dc42dc74cafc11140b
DTSTAMP:20260420T102522Z
SUMMARY:79th Anniversary of the Warsaw Ghetto Uprising
DESCRIPTION:UJA Federation of Greater Toronto\nJewish Toronto Calendar\nhtt
 ps://jewishtoronto.com/calendar/79th-anniversary-of-the-warsaw-ghetto-upri
 sing-1648478393\n\nThe Toronto Workmen's Circle Foundation will host the 7
 9th Anniversary of the Warsaw Ghetto Uprising Commemoration on Tuesday Apr
 il 19th at 8\;00 pm. 
DTSTART;TZID=America/Toronto:20220419T200000
DTEND;TZID=America/Toronto:20220419T210500
END:VEVENT
END:VCALENDAR
