BEGIN:VCALENDAR
PRODID:-//eluceo/ical//2.0/EN
VERSION:2.0
CALSCALE:GREGORIAN
BEGIN:VEVENT
UID:afd980079b17876707fd700f057c2040
DTSTAMP:20260425T165251Z
SUMMARY:76th Anniversary of the Warsaw Ghetto Uprising
DESCRIPTION:UJA Federation of Greater Toronto\nJewish Toronto Calendar\nhtt
 ps://jewishtoronto.com/calendar/76th-anniversary-of-the-warsaw-ghetto-upri
 sing\n\n76th Anniversary of the WARSAW GHETTO UPRISING.\nFree Admission\nN
 o Reservations needed.
DTSTART;TZID=America/Toronto:20190407T140000
DTEND;TZID=America/Toronto:20190407T153000
END:VEVENT
END:VCALENDAR
