BEGIN:VCALENDAR
PRODID:-//eluceo/ical//2.0/EN
VERSION:2.0
CALSCALE:GREGORIAN
BEGIN:VEVENT
UID:397c008999580b7982c997aa7365dd9c
DTSTAMP:20260422T211116Z
SUMMARY:60th Anniversary  Community Celebration  with Guest Speaker Natan S
 haransky
DESCRIPTION:UJA Federation of Greater Toronto\nJewish Toronto Calendar\nhtt
 ps://jewishtoronto.com/calendar/60th-anniversary-comm-celebration--special
 -guest-speaker-natan-sharansky\n\n60th Anniversary  Community Celebration
   with Special Guest Speaker Natan Sharansky\n\nCo-sponsors:  Beth Emeth
  Bais Yehuda Synagogue\, Beth Tzedec\, Temple Sinai\n\n 
DTSTART;TZID=America/Toronto:20150715T170000
DTEND;TZID=America/Toronto:20150715T220000
END:VEVENT
END:VCALENDAR
