BEGIN:VCALENDAR
PRODID:-//eluceo/ical//2.0/EN
VERSION:2.0
CALSCALE:GREGORIAN
BEGIN:VEVENT
UID:4b292bf66d7d94d77d4a5ec6b67b9b53
DTSTAMP:20260419T164900Z
SUMMARY:60+ Singles Friendship Group: Musical Meet & Greet
DESCRIPTION:UJA Federation of Greater Toronto\nJewish Toronto Calendar\nhtt
 ps://jewishtoronto.com/calendar/60-singles-friendship-group-musical-meet--
 greet-1452206018\n\nEnjoy the opportunity to socialize with single adults 
 60 years and older while you nosh to the sounds of the Klez Konnection\, T
 oronto's premier community Klezmer band. Cost: $18. Advance reservations r
 equired by Monday\, January 25.
DTSTART;TZID=America/Toronto:20160131T140000
DTEND;TZID=America/Toronto:20160131T160000
END:VEVENT
END:VCALENDAR
