BEGIN:VCALENDAR
PRODID:-//eluceo/ical//2.0/EN
VERSION:2.0
CALSCALE:GREGORIAN
BEGIN:VEVENT
UID:9b24ba9645ccd9858b2222cfbe8368df
DTSTAMP:20260420T130435Z
SUMMARY:5th Annual BAS Bike Around Simcoe
DESCRIPTION:UJA Federation of Greater Toronto\nJewish Toronto Calendar\nhtt
 ps://jewishtoronto.com/calendar/5th-annual-bas-bike-around-simcoe-16872905
 02\n\nAnnual BAS Charidy Bike Ride
DTSTART;TZID=America/Toronto:20240825T070000
DTEND;TZID=America/Toronto:20240825T170000
END:VEVENT
END:VCALENDAR
