BEGIN:VCALENDAR
PRODID:-//eluceo/ical//2.0/EN
VERSION:2.0
CALSCALE:GREGORIAN
BEGIN:VEVENT
UID:3f6ea4ed8388355b78dfac0be29acfae
DTSTAMP:20260422T045753Z
SUMMARY:50 Years at the Crossroads
DESCRIPTION:UJA Federation of Greater Toronto\nJewish Toronto Calendar\nhtt
 ps://jewishtoronto.com/calendar/50-years-at-the-crossroads-1495645796\n\nI
 t has been 50 years since the Six-Day War and the capture of territory tha
 t Israel occupies to this day.\n\nOn June 22\, we’ll hear from two Israe
 lis who are keeping Israel’s occupation of the West Bank on the public a
 genda. Join former Shin Bet security service director and navy commander M
 aj. Gen. (res.) Ami Ayalon\, well known for his testimony in The Gatekeepe
 rs\, and Rabbi Arik Ascherman\, founder of Rabbis for Human Rights and Haq
 el: Jews and Arabs in Defense of Human Rights. They will...
DTSTART;TZID=America/Toronto:20170622T183000
DTEND;TZID=America/Toronto:20170622T203000
END:VEVENT
END:VCALENDAR
