BEGIN:VCALENDAR
PRODID:-//eluceo/ical//2.0/EN
VERSION:2.0
CALSCALE:GREGORIAN
BEGIN:VEVENT
UID:f7ba5f297402c446e3d0e7d8597da2be
DTSTAMP:20260419T124940Z
SUMMARY:50 Shades of Addiction
DESCRIPTION:UJA Federation of Greater Toronto\nJewish Toronto Calendar\nhtt
 ps://jewishtoronto.com/calendar/50-shades-of-addiction-1440901134\n\nWhat 
 do I do if someone I love is struggling with addiction? What do the Jewish
  sages have to say about the issue of addiction? Explore these questions t
 hrough the stunning account of one Jewish man&rsquo\;s struggle and recove
 ry with addiction.  
DTSTART;TZID=America/Toronto:20151017T131500
DTEND;TZID=America/Toronto:20151017T141500
END:VEVENT
END:VCALENDAR
