BEGIN:VCALENDAR
PRODID:-//eluceo/ical//2.0/EN
VERSION:2.0
CALSCALE:GREGORIAN
BEGIN:VEVENT
UID:ae6756fb87b41b416c29d5ad9b1e109f
DTSTAMP:20260426T000103Z
SUMMARY:4th Annual JSMHT Hockey Skills Workshop
DESCRIPTION:UJA Federation of Greater Toronto\nJewish Toronto Calendar\nhtt
 ps://jewishtoronto.com/calendar/4th-annual-jsmht-hockey-skills-workshop-14
 53759812\n\nJoin the volunteers from the Joel Schwartz Memorial Hockey Tou
 rnament as they team up with members of the Reena community for an afterno
 on of FREE hockey\, laser tag\, arts and crafts and more @ the RINX sports
  complex\nFood & Drinks to be provided
DTSTART;TZID=America/Toronto:20160228T140000
DTEND;TZID=America/Toronto:20160228T160000
END:VEVENT
END:VCALENDAR
