BEGIN:VCALENDAR
PRODID:-//eluceo/ical//2.0/EN
VERSION:2.0
CALSCALE:GREGORIAN
BEGIN:VEVENT
UID:bea40b387fbe9a8c4d753ad947d36591
DTSTAMP:20260419T193347Z
SUMMARY:46th Annual Rikudiyah Israeli Dance Festival for Children
DESCRIPTION:UJA Federation of Greater Toronto\nJewish Toronto Calendar\nhtt
 ps://jewishtoronto.com/calendar/46th-annual-rikudiyah-israeli-dance-festiv
 al-for-children\n\n46th Annual Rikudiyah Israeli Dance Festival for Childr
 en
DTSTART;TZID=America/Toronto:20160417T143000
DTEND;TZID=America/Toronto:20160417T163000
END:VEVENT
END:VCALENDAR
