BEGIN:VCALENDAR
PRODID:-//eluceo/ical//2.0/EN
VERSION:2.0
CALSCALE:GREGORIAN
BEGIN:VEVENT
UID:a6a24449e1fac49de93c16d3991e4dec
DTSTAMP:20260422T104310Z
SUMMARY:45 years of Israel in Eurovision\, with Rena Ashton
DESCRIPTION:UJA Federation of Greater Toronto\nJewish Toronto Calendar\nhtt
 ps://jewishtoronto.com/calendar/45-years-of-israel-in-eurovision-with-rena
 -ashton-1548629491\n\nA look back at the 41 songs Israel has sent to the E
 urovision Song Contest. Israel has now won Eurovision four times and has t
 he sixth best performance record of any participating country. How does th
 is tiny nation manage to hold its own against Europe's musical powerhouses
 . Everyone is welcome to come sing along with the catchy\, the beautiful\,
  and the utterly bizarre songs Israel has selected. Rena Ashton is a Toron
 tonian\, a cyclist\, a cat person\, and an absolutely massive Eurovision f
 an. 
DTSTART;TZID=America/Toronto:20190202T193000
DTEND;TZID=America/Toronto:20190202T213000
END:VEVENT
END:VCALENDAR
