BEGIN:VCALENDAR
PRODID:-//eluceo/ical//2.0/EN
VERSION:2.0
CALSCALE:GREGORIAN
BEGIN:VEVENT
UID:017e90b4e2c523512b9cc5df2db746b7
DTSTAMP:20260422T165518Z
SUMMARY:3rd Annual Vendors Market
DESCRIPTION:UJA Federation of Greater Toronto\nJewish Toronto Calendar\nhtt
 ps://jewishtoronto.com/calendar/3rd-annual-vendors-market\n\nProceeds to B
 'nai Brith Canada and Uptown Chabad
DTSTART;TZID=America/Toronto:20140322T110000
DTEND;TZID=America/Toronto:20140323T160000
END:VEVENT
END:VCALENDAR
