BEGIN:VCALENDAR
PRODID:-//eluceo/ical//2.0/EN
VERSION:2.0
CALSCALE:GREGORIAN
BEGIN:VEVENT
UID:c4bb0200a8b6aebb8c16a34ef6d03ab6
DTSTAMP:20260420T082800Z
SUMMARY:3rd Annual Suzanne Burger  Family Day
DESCRIPTION:UJA Federation of Greater Toronto\nJewish Toronto Calendar\nhtt
 ps://jewishtoronto.com/calendar/3rd-annual-suzanne-burger-family-day\n\nSk
 ating party for all ages\n\nhttp://www.mazoncanada.ca
DTSTART;TZID=America/Toronto:20140217T110000
DTEND;TZID=America/Toronto:20140217T150000
END:VEVENT
END:VCALENDAR
