BEGIN:VCALENDAR
PRODID:-//eluceo/ical//2.0/EN
VERSION:2.0
CALSCALE:GREGORIAN
BEGIN:VEVENT
UID:015388731d218235b584a7024107e12a
DTSTAMP:20260422T022515Z
SUMMARY:3rd Annual Race to Save Lives with United Hatzalah Canada
DESCRIPTION:UJA Federation of Greater Toronto\nJewish Toronto Calendar\nhtt
 ps://jewishtoronto.com/calendar/3rd-annual-race-to-save-lives-with-united-
 hatzalah-canada\n\nGrab your gear and support United Hatzalah by running/w
 alking/riding a 5K race with your friends and family all over the world.\n
 \n \n\nStep 1:\n\nCreate a team or join an existing\n\nteam with your fam
 ily and friends.\n\nRegister online at: uhrun.com/Canada\n\n \n\nStep 2:
 \n\nReach out to family and friends\n\nto reach your fundraising goal of\n
 \nC$180/student or C$500/Adult.\n\nAnd win prizes for raising the most\n\n
 amount of money.\n\n \n\nStep 3:\n\nStart training with friends and sig..
 .
DTSTART;TZID=America/Toronto:20220821T100000
DTEND;TZID=America/Toronto:20220821T120000
END:VEVENT
END:VCALENDAR
