BEGIN:VCALENDAR
PRODID:-//eluceo/ical//2.0/EN
VERSION:2.0
CALSCALE:GREGORIAN
BEGIN:VEVENT
UID:6b5a157751b4f77dd9153a70cdd63af8
DTSTAMP:20260421T171146Z
SUMMARY:3rd Annual Harry Barberian Memorial Dinner 
DESCRIPTION:UJA Federation of Greater Toronto\nJewish Toronto Calendar\nhtt
 ps://jewishtoronto.com/calendar/3rd-annual-harry-barberian-memorial-dinner
 \n\nThe Barberian's Steakhouse is closing to the public for one night to p
 rovide an intimate and exclusive dinner experience. This event is being he
 ld in memory of Harry Barberian - proceeds from this event will be directe
 d to support the residents\, fellows and junior faculty conducting resear
 ch and pursuing careers in the Department of Otolaryngology – Head and N
 eck Surgery\, Mount Sinai Hospital\, University of Toronto. The funds rais
 ed through the 3rd Annual Harry Barberian Memorial Dinner wi...
DTSTART;TZID=America/Toronto:20150505T183000
DTEND;TZID=America/Toronto:20150505T223000
END:VEVENT
END:VCALENDAR
