BEGIN:VCALENDAR
PRODID:-//eluceo/ical//2.0/EN
VERSION:2.0
CALSCALE:GREGORIAN
BEGIN:VEVENT
UID:962c354aeaaf52770bf87395db6f17f0
DTSTAMP:20260422T220133Z
SUMMARY:32nd Annual Mount Sinai Classic Golf Tournament
DESCRIPTION:UJA Federation of Greater Toronto\nJewish Toronto Calendar\nhtt
 ps://jewishtoronto.com/calendar/32nd-annual-mount-sinai-classic-golf-tourn
 ament-1768924960\n\n 
DTSTART;TZID=America/Toronto:20260810T090000
DTEND;TZID=America/Toronto:20260810T180000
END:VEVENT
END:VCALENDAR
