BEGIN:VCALENDAR
PRODID:-//eluceo/ical//2.0/EN
VERSION:2.0
CALSCALE:GREGORIAN
BEGIN:VEVENT
UID:282c43c04c51e0c647cd1b235cc56b35
DTSTAMP:20260421T154951Z
SUMMARY:2nd Annual Zareinu Poker Tournament
DESCRIPTION:UJA Federation of Greater Toronto\nJewish Toronto Calendar\nhtt
 ps://jewishtoronto.com/calendar/2nd-annual-zareinu-poker-tournament-145375
 1840\n\nJoin us for the 2nd Annual Zareinu Poker Tournament!\n\nSaturday M
 arch 5th - Promptly at 8:30 pm\nIncludes Light Dinner & Premium Open Bar\n
 \nGrand Prize: $3\,000 Buy-In to a World Series of Poker Tournament in Las
  Vegas - Airfare for 2 - 3 Night Stay at a 4 Star Las Vegas Strip Hotel\n\
 nTop 10 players will receive a prize
DTSTART;TZID=America/Toronto:20160305T203000
DTEND;TZID=America/Toronto:20160306T040000
END:VEVENT
END:VCALENDAR
