BEGIN:VCALENDAR
PRODID:-//eluceo/ical//2.0/EN
VERSION:2.0
CALSCALE:GREGORIAN
BEGIN:VEVENT
UID:9ed320452f752c10c2109009f20894b9
DTSTAMP:20260420T093432Z
SUMMARY:2nd Annual Giving Day for Jewish Education
DESCRIPTION:UJA Federation of Greater Toronto\nJewish Toronto Calendar\nhtt
 ps://jewishtoronto.com/calendar/2nd-annual-giving-day-for-jewish-education
 -1511997458\n\nJoin Jewish schools across Toronto as they come together fo
 r a 24-hour\, all-or-nothing online fundraising event to raise money for J
 ewish education. Funds donated on this Giving Day will be quadrupled by sc
 hools' generous matchers. We can't do it without the amazing supporters in
  Canada\, the United States and abroad.\n\nCome together in support of our
  day schools and rise up for Jewish education. Anyone can make a differenc
 e. No donation is too small. Visit https://www.charidy.com/raisetoront...
DTSTART;TZID=America/Toronto:20180416T110000
DTEND;TZID=America/Toronto:20180417T110000
END:VEVENT
END:VCALENDAR
