BEGIN:VCALENDAR
PRODID:-//eluceo/ical//2.0/EN
VERSION:2.0
CALSCALE:GREGORIAN
BEGIN:VEVENT
UID:192dcf4562b413e910b5c49fd0f158f0
DTSTAMP:20260419T183107Z
SUMMARY:2nd Annual Bike Around Simcoe - Bnei Akiva Schools
DESCRIPTION:UJA Federation of Greater Toronto\nJewish Toronto Calendar\nhtt
 ps://jewishtoronto.com/calendar/2nd-annual-bike-around-simcoe---bnei-akiva
 -schools-1628535740\n\nJoin the community for a refreshing and exhilaratin
 g bike ride around Lake Simcoe! Open to high school aged kids and adults. 
 For more information\, speak with Rabbi Gavry Mandel at 416-630-6772 ext 2
 24 or gmandel@bastoronto.orgSuggested donation requested for participation
 . Tax receipts available as applicable. Stay tuned for more details at www
 .bastoronto.org/eta
DTSTART;TZID=America/Toronto:20211010T080000
DTEND;TZID=America/Toronto:20211010T200000
END:VEVENT
END:VCALENDAR
