BEGIN:VCALENDAR
PRODID:-//eluceo/ical//2.0/EN
VERSION:2.0
CALSCALE:GREGORIAN
BEGIN:VEVENT
UID:e67a004b0e2ad750363885f13c43bae5
DTSTAMP:20260425T183343Z
SUMMARY:28th Annual Mount Sinai Classic
DESCRIPTION:UJA Federation of Greater Toronto\nJewish Toronto Calendar\nhtt
 ps://jewishtoronto.com/calendar/28th-annual-mount-sinai-classic\n\nThe 28t
 h Annual Mount Sinai Classic\, presented by Equitable Bank and Peerage Cap
 ital Partners will take place on June 20\, 2022\, at Magna Golf Club\, Thi
 s renowned tournament has raised in excess of $11 million for the Lunenfel
 d-Tanenbaum Research Institute since its inception.\n\nPresenting Sponsors
 : Equitable Bank and Peerage Capital Partners
DTSTART;TZID=America/Toronto:20220620T000000
DTEND;TZID=America/Toronto:20220620T235959
END:VEVENT
END:VCALENDAR
