BEGIN:VCALENDAR
PRODID:-//eluceo/ical//2.0/EN
VERSION:2.0
CALSCALE:GREGORIAN
BEGIN:VEVENT
UID:8358db1ee982a9d54016ed2744674c7e
DTSTAMP:20260419T165549Z
SUMMARY:26th Annual Mount Sinai Classic Golf Tournament
DESCRIPTION:UJA Federation of Greater Toronto\nJewish Toronto Calendar\nhtt
 ps://jewishtoronto.com/calendar/26th-annual-mount-sinai-classic-golf-tourn
 ament-1571161640\n\nThe Mount Sinai Classic Golf Tournament celebrated its
  26th year at Magna Golf Club. This tournament supports Mount Sinai Hospit
 al\, part of Sinai Health.
DTSTART;TZID=America/Toronto:20200608T100000
DTEND;TZID=America/Toronto:20200608T200000
END:VEVENT
END:VCALENDAR
