BEGIN:VCALENDAR
PRODID:-//eluceo/ical//2.0/EN
VERSION:2.0
CALSCALE:GREGORIAN
BEGIN:VEVENT
UID:df3cdb321b8d1873596483402be9b7e8
DTSTAMP:20260424T095637Z
SUMMARY:21st Annual JNF Golf Classic
DESCRIPTION:UJA Federation of Greater Toronto\nJewish Toronto Calendar\nhtt
 ps://jewishtoronto.com/calendar/21st-annual-jnf-golf-classic-1643213824\n\
 nGolf Tournament - Location to be announced soon
DTSTART;TZID=America/Toronto:20220620T080000
DTEND;TZID=America/Toronto:20220620T193000
END:VEVENT
END:VCALENDAR
