BEGIN:VCALENDAR
PRODID:-//eluceo/ical//2.0/EN
VERSION:2.0
CALSCALE:GREGORIAN
BEGIN:VEVENT
UID:75978f80b5c06e13a5f3b91d102acec1
DTSTAMP:20260424T022701Z
SUMMARY:21 Questions with the Clergy
DESCRIPTION:UJA Federation of Greater Toronto\nJewish Toronto Calendar\nhtt
 ps://jewishtoronto.com/calendar/21-questions-with-the-clergy-1595260682\n\
 nEver wanted to get to know Holy Blossom's Rabbis and Cantors beyond the b
 imah? Bring your whole family along\, virtually\, to watch the clergy scra
 mble to answer silly interview and trivia questions. Come and see if the c
 lergy can pass our test!
DTSTART;TZID=America/Toronto:20200720T193000
DTEND;TZID=America/Toronto:20200720T203000
END:VEVENT
END:VCALENDAR
