BEGIN:VCALENDAR
PRODID:-//eluceo/ical//2.0/EN
VERSION:2.0
CALSCALE:GREGORIAN
BEGIN:VEVENT
UID:b89459347507b4dc84c707320d5b4566
DTSTAMP:20260422T022442Z
SUMMARY:20th Annual JNF Golf Tournament
DESCRIPTION:UJA Federation of Greater Toronto\nJewish Toronto Calendar\nhtt
 ps://jewishtoronto.com/calendar/20th-annual-jnf-golf-tournament-1623849796
 \n\nGolf Tournament - rescheduled date from July 12
DTSTART;TZID=America/Toronto:20210810T000000
DTEND;TZID=America/Toronto:20210810T000000
END:VEVENT
END:VCALENDAR
