BEGIN:VCALENDAR
PRODID:-//eluceo/ical//2.0/EN
VERSION:2.0
CALSCALE:GREGORIAN
BEGIN:VEVENT
UID:882f5fbfd562693f3e88bc9644377c76
DTSTAMP:20260421T222122Z
SUMMARY:20th annual BINGO night -Na’amat Canada Toronto’s Club Simcha K
 adima 
DESCRIPTION:UJA Federation of Greater Toronto\nJewish Toronto Calendar\nhtt
 ps://jewishtoronto.com/calendar/20th-annual-bingo-night-naamat-canada-toro
 ntos-club-simcha-kadima\n\nDoors open 6:30\n\n$20.00 advance tickets  | 
  $25.00 at the door\n\nTo purchase tickets email admin@naamattoronto.ca or
  call 416.636.5425
DTSTART;TZID=America/Toronto:20150502T193000
DTEND;TZID=America/Toronto:20150502T213000
END:VEVENT
END:VCALENDAR
