BEGIN:VCALENDAR
PRODID:-//eluceo/ical//2.0/EN
VERSION:2.0
CALSCALE:GREGORIAN
BEGIN:VEVENT
UID:1bf706df06c30a54fdc71966bea08285
DTSTAMP:20260419T195016Z
SUMMARY:The 20th anniversary of the Barrie to Baycrest (B2B) endurance ride
DESCRIPTION:UJA Federation of Greater Toronto\nJewish Toronto Calendar\nhtt
 ps://jewishtoronto.com/calendar/20th-anniversary-of-the-barrie-to-baycrest
 -b2b-endurance-ride\n\nIn support of therapeutic fitness programs at Baycr
 est.\n\nRiders will take to the streets in a 50km or 100km course through 
 beautiful countryside north of Toronto. - See more at: http://www.baycrest
 .org/b2b/
DTSTART;TZID=America/Toronto:20150920T070000
DTEND;TZID=America/Toronto:20150920T220000
END:VEVENT
END:VCALENDAR
