BEGIN:VCALENDAR
PRODID:-//eluceo/ical//2.0/EN
VERSION:2.0
CALSCALE:GREGORIAN
BEGIN:VEVENT
UID:c71449b9a9551d19606f547978e77041
DTSTAMP:20260422T094930Z
SUMMARY:20s and 30s Shabbat Dinner
DESCRIPTION:UJA Federation of Greater Toronto\nJewish Toronto Calendar\nhtt
 ps://jewishtoronto.com/calendar/20s-and-30s-shabbat-dinner-1673883639\n\nJ
 oin Beth Tzedec 20s and 30s for a musical Shabbat at the Floor service fol
 lowed by a Shabbat dinner catered by Apex Kosher.\n\n6:00 p.m. — Shabbat
  at the Floor monthly service \n7:00 p.m. — Shabbat dinner \n\nCost for 
 dinner: $18 per person. Pre-registration is required by 12:00 noon on Frid
 ay\, February 3. To register\, visit https://bethtzedectoronto.shulcloud.c
 om/form/20s-and-30s-shabbat-feb-2023.html.\n\nIf you have questions\, or j
 ust want to connect with someone before attending\,...
DTSTART;TZID=America/Toronto:20230210T190000
DTEND;TZID=America/Toronto:20230210T210000
END:VEVENT
END:VCALENDAR
