BEGIN:VCALENDAR
PRODID:-//eluceo/ical//2.0/EN
VERSION:2.0
CALSCALE:GREGORIAN
BEGIN:VEVENT
UID:35017e4325be20048a8b99155e318e82
DTSTAMP:20260424T071008Z
SUMMARY:20s and 30s Couples Shabbat Dinner
DESCRIPTION:UJA Federation of Greater Toronto\nJewish Toronto Calendar\nhtt
 ps://jewishtoronto.com/calendar/20s-and-30s-couples-shabbat-dinner-1759256
 892\n\nBeth Tzedec's 20s and 30s couples are invited to join us for a cate
 red Shabbat dinner in the Sukkah! This will be an opportunity to meet othe
 r young couples in our community—FYI—there are many!!!\n\nServices beg
 in at 6:00 p.m. with dinner to follow at 7:00 p.m.\nCost for dinner\, pric
 ed per couple.
DTSTART;TZID=America/Toronto:20251010T191500
DTEND;TZID=America/Toronto:20251010T220000
END:VEVENT
END:VCALENDAR
