BEGIN:VCALENDAR
PRODID:-//eluceo/ical//2.0/EN
VERSION:2.0
CALSCALE:GREGORIAN
BEGIN:VEVENT
UID:2f54c01ef9dd68c81973568ef28da490
DTSTAMP:20260423T011014Z
SUMMARY:20s & 30s Holocaust Remembrance Shabbat Dinner
DESCRIPTION:UJA Federation of Greater Toronto\nJewish Toronto Calendar\nhtt
 ps://jewishtoronto.com/calendar/20s--30s-holocaust-remembrance-shabbat-din
 ner-1577740871\n\nShabbat to Remember with Reny Friedman—Beth Tzedec's 2
 0s & 30s are partnering with the Neuberger Holocaust Education Centre for 
 a Shabbat dinner in honour of International Holocaust Remembrance Day. We 
 will begin with a Kabbalat Shabbat Services at 6:00 p.m. with a presentati
 on with survivor Reny Friedman and a delicious dinner. RSVPs required by M
 onday\, January 20.
DTSTART;TZID=America/Toronto:20200124T180000
DTEND;TZID=America/Toronto:20200124T210000
END:VEVENT
END:VCALENDAR
