BEGIN:VCALENDAR
PRODID:-//eluceo/ical//2.0/EN
VERSION:2.0
CALSCALE:GREGORIAN
BEGIN:VEVENT
UID:e114afed9f68e81123e23159794a6c18
DTSTAMP:20260424T115842Z
SUMMARY:2020 Scotiabank Pro-Am for Alzheimer’s™ Winter Warm Up
DESCRIPTION:UJA Federation of Greater Toronto\nJewish Toronto Calendar\nhtt
 ps://jewishtoronto.com/calendar/2020-scotiabank-pro-am-for-alzheimers-wint
 er-warm-up-1579021576\n\nThe game will launch the 2020 season of the Scoti
 abank Pro-Am for Alzheimer’s™ and raise awareness of the more than hal
 f a million Canadians living with Alzheimer’s and other forms of dementi
 as today.
DTSTART;TZID=America/Toronto:20200123T120000
DTEND;TZID=America/Toronto:20200123T150000
END:VEVENT
END:VCALENDAR
