BEGIN:VCALENDAR
PRODID:-//eluceo/ical//2.0/EN
VERSION:2.0
CALSCALE:GREGORIAN
BEGIN:VEVENT
UID:61a229541e920a34a663167a7a0571c5
DTSTAMP:20260423T195407Z
SUMMARY:2020 GALA Dinner Launch
DESCRIPTION:UJA Federation of Greater Toronto\nJewish Toronto Calendar\nhtt
 ps://jewishtoronto.com/calendar/2020-gala-dinner-launch-1582652998\n\nTBD
DTSTART;TZID=America/Toronto:20200430T181500
DTEND;TZID=America/Toronto:20200430T213000
END:VEVENT
END:VCALENDAR
