BEGIN:VCALENDAR
PRODID:-//eluceo/ical//2.0/EN
VERSION:2.0
CALSCALE:GREGORIAN
BEGIN:VEVENT
UID:78cf24954b7ed23beeaf7ff20d24eabd
DTSTAMP:20260421T232429Z
SUMMARY:2019 National Holocaust Remembrance Day Ceremony in Ottawa
DESCRIPTION:UJA Federation of Greater Toronto\nJewish Toronto Calendar\nhtt
 ps://jewishtoronto.com/calendar/2019-national-holocaust-remembrance-day-ce
 remony-in-ottawa-1542646336\n\nNational Holocaust Remembrance Day Ceremony
  in Ottawa\, followed by a reception\nProgram includes a personal account 
 by a Holocaust survivor\, remarks by the leaders of the major Canadian pol
 itical parties\, and moving musical presentations.\nThe 2019 theme is\, "S
 truggle for Survival: Jewish Resistance during the Holocaust." A reception
  follows the event.
DTSTART;TZID=America/Toronto:20190507T153000
DTEND;TZID=America/Toronto:20190507T173000
END:VEVENT
END:VCALENDAR
