BEGIN:VCALENDAR
PRODID:-//eluceo/ical//2.0/EN
VERSION:2.0
CALSCALE:GREGORIAN
BEGIN:VEVENT
UID:5849bfa2a134e08810a96da185d82afb
DTSTAMP:20260422T182528Z
SUMMARY:2018 Ben Steinberg Musical Legacy Award\, winner Liel Amdour\, Guit
 ar
DESCRIPTION:UJA Federation of Greater Toronto\nJewish Toronto Calendar\nhtt
 ps://jewishtoronto.com/calendar/2018-ben-steinberg-musical-legacy-award-wi
 nner-liel-amdour-guitar-1522269234\n\nA Temple Sinai Program: 2018 Ben Ste
 inberg Musical Legacy Award\, winner Liel Amdour\, Guitar\n\nIn its 35th y
 ear\, the award was established to encourage the careers of young Jewish a
 rtists in the Canadian community as well as the performance of music by Je
 wish composers. Liel was chosen this year because of her gifted musical ta
 lent\, instrumental technique and overall musicianship. A passionate ambas
 sador of the classical guitar\, Liel Amdour is committed to sharing the mu
 sic of the guitar with...
DTSTART;TZID=America/Toronto:20180612T200000
DTEND;TZID=America/Toronto:20180612T213000
END:VEVENT
END:VCALENDAR
