BEGIN:VCALENDAR
PRODID:-//eluceo/ical//2.0/EN
VERSION:2.0
CALSCALE:GREGORIAN
BEGIN:VEVENT
UID:d769656c9dc13b8c848e32b8686b33cc
DTSTAMP:20260420T034803Z
SUMMARY:2017 Holocaust Education Week - Liaisons' Orientation Meeting
DESCRIPTION:UJA Federation of Greater Toronto\nJewish Toronto Calendar\nhtt
 ps://jewishtoronto.com/calendar/2017-holocaust-education-week-liaisons-ori
 entation-meeting\n\n2017 HEW Liaisons' orientation meeting
DTSTART;TZID=America/Toronto:20170427T190000
DTEND;TZID=America/Toronto:20170427T210000
END:VEVENT
END:VCALENDAR
