BEGIN:VCALENDAR
PRODID:-//eluceo/ical//2.0/EN
VERSION:2.0
CALSCALE:GREGORIAN
BEGIN:VEVENT
UID:e4842d531a270a57f8b8c45861645509
DTSTAMP:20260423T123229Z
SUMMARY:Jewish Family & Child - 2016 Donor Wall Reception
DESCRIPTION:UJA Federation of Greater Toronto\nJewish Toronto Calendar\nhtt
 ps://jewishtoronto.com/calendar/2016-donor-wall-reception-1468261044\n\nJF
 &CS Donor Wall Reception
DTSTART;TZID=America/Toronto:20161026T180000
DTEND;TZID=America/Toronto:20161026T193000
END:VEVENT
END:VCALENDAR
