BEGIN:VCALENDAR
PRODID:-//eluceo/ical//2.0/EN
VERSION:2.0
CALSCALE:GREGORIAN
BEGIN:VEVENT
UID:44697a3188a31514918b1724ee6ae780
DTSTAMP:20260422T031519Z
SUMMARY:2015 OneFamily Fund Golf Tournament
DESCRIPTION:UJA Federation of Greater Toronto\nJewish Toronto Calendar\nhtt
 ps://jewishtoronto.com/calendar/2015-onefamily-fund-golf-tournament\n\n201
 5 OneFamily Fund Golf Tournament
DTSTART;TZID=America/Toronto:20150824T110000
DTEND;TZID=America/Toronto:20150824T180000
END:VEVENT
END:VCALENDAR
