BEGIN:VCALENDAR
PRODID:-//eluceo/ical//2.0/EN
VERSION:2.0
CALSCALE:GREGORIAN
BEGIN:VEVENT
UID:d39dc567ecbbc572f3f529f080f34044
DTSTAMP:20260422T022312Z
SUMMARY:2015 OneFamily Fund Cross Israel Hike 
DESCRIPTION:UJA Federation of Greater Toronto\nJewish Toronto Calendar\nhtt
 ps://jewishtoronto.com/calendar/2015-onefamily-fund-cross-israel-hike\n\n2
 015 OneFamily Fund Cross Israel Hike\n\nCall for more information.\n\n \n
 \n \n\n 
DTSTART;TZID=America/Toronto:20151025T000000
DTEND;TZID=America/Toronto:20151025T010000
END:VEVENT
END:VCALENDAR
