BEGIN:VCALENDAR
PRODID:-//eluceo/ical//2.0/EN
VERSION:2.0
CALSCALE:GREGORIAN
BEGIN:VEVENT
UID:74ad94d53b295e2cc28d1bd07de6c2a7
DTSTAMP:20260421T093814Z
SUMMARY:1st Annual Avron Shore z"l Invitational Poker Tournament
DESCRIPTION:UJA Federation of Greater Toronto\nJewish Toronto Calendar\nhtt
 ps://jewishtoronto.com/calendar/1st-annual-avron-shore-zl-invitational-pok
 er-tournament-1455820103\n\nRegistration: 6:45 PM\nTournament begins: 7:00
  PM\nGrand Prize: Weekend Get-Away in Niagara Falls
DTSTART;TZID=America/Toronto:20160331T184500
DTEND;TZID=America/Toronto:20160331T220000
END:VEVENT
END:VCALENDAR
