BEGIN:VCALENDAR
PRODID:-//eluceo/ical//2.0/EN
VERSION:2.0
CALSCALE:GREGORIAN
BEGIN:VEVENT
UID:a9abb89a8b3c304168e252e06573a990
DTSTAMP:20260424T205950Z
SUMMARY:19th Annual JNF Golf Classic (new date)
DESCRIPTION:UJA Federation of Greater Toronto\nJewish Toronto Calendar\nhtt
 ps://jewishtoronto.com/calendar/19th-annual-jnf-golf-classic-new-date-1587
 140961\n\nThis event has been rescheduled to this date from June 15th.
DTSTART;TZID=America/Toronto:20200831T090000
DTEND;TZID=America/Toronto:20200831T200000
END:VEVENT
END:VCALENDAR
