BEGIN:VCALENDAR
PRODID:-//eluceo/ical//2.0/EN
VERSION:2.0
CALSCALE:GREGORIAN
BEGIN:VEVENT
UID:f55ff22ba88947ebda4e0ac9b6666667
DTSTAMP:20260425T190805Z
SUMMARY:19th Annual Barrie to Baycrest Rride
DESCRIPTION:UJA Federation of Greater Toronto\nJewish Toronto Calendar\nhtt
 ps://jewishtoronto.com/calendar/19th-annual-barrie-to-baycrest-ride\n\nSun
 day\, September 7th 2014. Ride starts at 7:00 am. Lunch from 11:00 am - 1:
 00 pm. Dinner starts at 6:30 pm. The scenic 100 km ride begins in Barrie a
 nd makes its way through the valleys and farmlands north of Toronto. A cha
 llenging and exhilarating undertaking for recreational riders. The 50 km r
 oute is a great beginner course that covers beautiful countryside and guar
 antees a fun and memorable experience for participants. Lunch will take pl
 ace at the beautiful Holland Marsh Winery for the 5...
DTSTART;TZID=America/Toronto:20140907T070000
DTEND;TZID=America/Toronto:20140907T220000
END:VEVENT
END:VCALENDAR
