BEGIN:VCALENDAR
PRODID:-//eluceo/ical//2.0/EN
VERSION:2.0
CALSCALE:GREGORIAN
BEGIN:VEVENT
UID:e3d5b1d7a29b7dce74ee8359bac2ab82
DTSTAMP:20260424T021339Z
SUMMARY:18 Hour Learning
DESCRIPTION:UJA Federation of Greater Toronto\nJewish Toronto Calendar\nhtt
 ps://jewishtoronto.com/calendar/18-hour-learning-1471570348\n\nThe sponsor
 ing of the 18 lectures will support our programming for university student
 s.
DTSTART;TZID=America/Toronto:20160918T060000
DTEND;TZID=America/Toronto:20160918T235900
END:VEVENT
END:VCALENDAR
