BEGIN:VCALENDAR
PRODID:-//eluceo/ical//2.0/EN
VERSION:2.0
CALSCALE:GREGORIAN
BEGIN:VEVENT
UID:407d4e2065e34677b6d9ee609f15a224
DTSTAMP:20260425T202102Z
SUMMARY:16th Annual JNF Golf Classic
DESCRIPTION:UJA Federation of Greater Toronto\nJewish Toronto Calendar\nhtt
 ps://jewishtoronto.com/calendar/16th-annual-jnf-golf-classic-1481305482\n\
 nJNF Golf Tournament at Lebovic Golf Club
DTSTART;TZID=America/Toronto:20170605T080000
DTEND;TZID=America/Toronto:20170605T235959
END:VEVENT
END:VCALENDAR
