BEGIN:VCALENDAR
PRODID:-//eluceo/ical//2.0/EN
VERSION:2.0
CALSCALE:GREGORIAN
BEGIN:VEVENT
UID:91e3d0e42b28394240cda7be40a083b2
DTSTAMP:20260420T085931Z
SUMMARY:15th Annual Woman of Action Luncheon
DESCRIPTION:UJA Federation of Greater Toronto\nJewish Toronto Calendar\nhtt
 ps://jewishtoronto.com/calendar/15th-annual-woman-of-action-luncheon-14527
 90468\n\nIsrael Cancer Research Fund (ICRF) is pleased to celebrate the 15
 th annual Women of Action Luncheon. Each year we are privileged to honour 
 extraordinary women for their achievements in advocacy\, business\, health
  sciences and philanthropy. Please join us in celebrating exceptional wome
 n. Your generosity and commitment will ensure the continued work of our de
 dicated scientists in Israel\, and help eradicate cancer in our lifetime.
DTSTART;TZID=America/Toronto:20160503T113000
DTEND;TZID=America/Toronto:20160503T140000
END:VEVENT
END:VCALENDAR
