BEGIN:VCALENDAR
PRODID:-//eluceo/ical//2.0/EN
VERSION:2.0
CALSCALE:GREGORIAN
BEGIN:VEVENT
UID:cbfa202c0b141d23164cded974fa7465
DTSTAMP:20260422T124751Z
SUMMARY:15th Annual Kicking for Kids Soccerthon
DESCRIPTION:UJA Federation of Greater Toronto\nJewish Toronto Calendar\nhtt
 ps://jewishtoronto.com/calendar/15th-annual-kicking-for-kids-soccerthon-17
 38684032\n\n15th Annual Kicking for Kids Soccerthon in support of Beit Iss
 ie Sharpiro.\nIsrael’s leading developer and provider of innovative ther
 apies and state-of-the-art services for children and adults across the ent
 ire range of disabilities impacting on over half a million people annually
 .
DTSTART;TZID=America/Toronto:20250622T140000
DTEND;TZID=America/Toronto:20250622T180000
END:VEVENT
END:VCALENDAR
