BEGIN:VCALENDAR
PRODID:-//eluceo/ical//2.0/EN
VERSION:2.0
CALSCALE:GREGORIAN
BEGIN:VEVENT
UID:dfc1a559b5059abfcf5476df32ac24e2
DTSTAMP:20260422T155132Z
SUMMARY:15th Annual JNF Golf Classic 
DESCRIPTION:UJA Federation of Greater Toronto\nJewish Toronto Calendar\nhtt
 ps://jewishtoronto.com/calendar/15th-annual-jnf-golf-classic\n\nLocation t
 o be announced.
DTSTART;TZID=America/Toronto:20160606T090000
DTEND;TZID=America/Toronto:20160606T210000
END:VEVENT
END:VCALENDAR
