BEGIN:VCALENDAR
PRODID:-//eluceo/ical//2.0/EN
VERSION:2.0
CALSCALE:GREGORIAN
BEGIN:VEVENT
UID:d3ebf04ff457d5fa18f722dd2cc21853
DTSTAMP:20260422T170833Z
SUMMARY:15th Annual Doctors\, Dentists and Friends Mission to Israel
DESCRIPTION:UJA Federation of Greater Toronto\nJewish Toronto Calendar\nhtt
 ps://jewishtoronto.com/calendar/15th-annual-doctors-dentists-and-friends-m
 ission-to-israel\n\n15th Annual Doctors\, Dentists and Friends Mission to 
 Israel
DTSTART;TZID=America/Toronto:20151018T000000
DTEND;TZID=America/Toronto:20151018T235959
END:VEVENT
END:VCALENDAR
