BEGIN:VCALENDAR
PRODID:-//eluceo/ical//2.0/EN
VERSION:2.0
CALSCALE:GREGORIAN
BEGIN:VEVENT
UID:452b03c8ff86aded9b023000043d3baa
DTSTAMP:20260421T004214Z
SUMMARY:10th Annual Striking for Reena Bowling Event
DESCRIPTION:UJA Federation of Greater Toronto\nJewish Toronto Calendar\nhtt
 ps://jewishtoronto.com/calendar/10th-annual-striking-for-reena-bowling-eve
 nt-1645131997\n\nSave the Date for our 10th Annual Striking for Reena Bowl
 ing Event.\n\nDetails to follow.
DTSTART;TZID=America/Toronto:20220612T123000
DTEND;TZID=America/Toronto:20220612T150000
END:VEVENT
END:VCALENDAR
