BEGIN:VCALENDAR
PRODID:-//eluceo/ical//2.0/EN
VERSION:2.0
CALSCALE:GREGORIAN
BEGIN:VEVENT
UID:1d82a940e2d4adeca38c1cb710bbe68b
DTSTAMP:20260421T085858Z
SUMMARY:10th Annual Joe Dwek Ohr HaEmet Sephardic School Golf Tournament
DESCRIPTION:UJA Federation of Greater Toronto\nJewish Toronto Calendar\nhtt
 ps://jewishtoronto.com/calendar/10th-annual-joe-dwek-ohr-haemet-sephardic-
 school-golf-tournament-1471962988\n\n10th Annual Joe Dwek Ohr HaEmet Sepha
 rdic School Golf Tournament\nLebovic Golf Club
DTSTART;TZID=America/Toronto:20170912T113000
DTEND;TZID=America/Toronto:20170912T235900
END:VEVENT
END:VCALENDAR
