BEGIN:VCALENDAR
PRODID:-//eluceo/ical//2.0/EN
VERSION:2.0
CALSCALE:GREGORIAN
BEGIN:VEVENT
UID:b324043e8ffa2a2b3cbf70a0336bd2be
DTSTAMP:20260422T170614Z
SUMMARY:100 Years at the Beach: The Beach Hebrew Institute 1919-2019
DESCRIPTION:UJA Federation of Greater Toronto\nJewish Toronto Calendar\nhtt
 ps://jewishtoronto.com/calendar/100-years-at-the-beach-the-beach-hebrew-in
 stitute-1919-2019-1580679585\n\nThis presentation by Dena Taylor offers an
  engaging history of the first hundred years of the Beach Hebrew Institute
 \, focusing on the experience of Jewish synagogue and community life in a 
 predominantly non-Jewish area of Toronto. Presented jointly by the Beach &
  East Toronto Historical Society and the BHI. Free admission\; light refre
 shments. 109 Kenilworth Ave.
DTSTART;TZID=America/Toronto:20200218T190000
DTEND;TZID=America/Toronto:20200218T203000
END:VEVENT
END:VCALENDAR
